BEGIN:VCALENDAR
VERSION:2.0
PRODID:-//Squarespace Inc/Squarespace 6//v6//EN
BEGIN:VEVENT
UID:5d9ff98ca99ffe662d93091b@squarespace.com
DTSTAMP:20191028T045833Z
DTSTART:20191011T040000Z
DTEND:20191027T170000Z
SUMMARY:Marketing Manager 
END:VEVENT
END:VCALENDAR
