BEGIN:VCALENDAR
VERSION:2.0
PRODID:-//Squarespace Inc/Squarespace 6//v6//EN
BEGIN:VEVENT
UID:5d9ffb77e465cf0dc0c3dabb@squarespace.com
DTSTAMP:20191028T045810Z
DTSTART:20191011T040000Z
DTEND:20191027T170000Z
SUMMARY:Media and Content Coordinator
END:VEVENT
END:VCALENDAR
