BEGIN:VCALENDAR
VERSION:2.0
PRODID:-//Squarespace Inc/Squarespace 6//v6//EN
BEGIN:VEVENT
UID:5da9198657ce3124512d0de9@squarespace.com
DTSTAMP:20191028T050019Z
DTSTART:20191018T020000Z
DTEND:20191027T150000Z
SUMMARY:Secondary Teacher Specialising in Hospitality\, Food &amp\; Nutriti
 on
END:VEVENT
END:VCALENDAR
