BEGIN:VCALENDAR
VERSION:2.0
PRODID:-//Squarespace Inc/Squarespace 6//v6//EN
BEGIN:VEVENT
UID:5db272660998ac76f415e0db@squarespace.com
DTSTAMP:20191118T034825Z
DTSTART:20191025T040000Z
DTEND:20191117T040000Z
SUMMARY:Expression of Interest - Dance Instructor
END:VEVENT
END:VCALENDAR
