BEGIN:VCALENDAR
VERSION:2.0
PRODID:-//Squarespace Inc/Squarespace 6//v6//EN
BEGIN:VEVENT
UID:5db6744e4fbade21d1989cda@squarespace.com
DTSTAMP:20191108T050627Z
DTSTART:20191028T050000Z
DTEND:20191107T180000Z
SUMMARY:Secondary Teacher specialising in high level Mathematics
END:VEVENT
END:VCALENDAR
