BEGIN:VCALENDAR
VERSION:2.0
PRODID:-//Squarespace Inc/Squarespace 6//v6//EN
BEGIN:VEVENT
UID:5db92d33142fba69a230ad52@squarespace.com
DTSTAMP:20191118T035218Z
DTSTART:20191030T063000Z
DTEND:20191117T043000Z
SUMMARY:Childcare Educators
END:VEVENT
END:VCALENDAR
