BEGIN:VCALENDAR
VERSION:2.0
PRODID:-//Squarespace Inc/Squarespace 6//v6//EN
BEGIN:VEVENT
UID:5db92b4ddc253e6bed8511df@squarespace.com
DTSTAMP:20191118T034845Z
DTSTART:20191030T063000Z
DTEND:20191117T043000Z
SUMMARY:Lead Educators
END:VEVENT
END:VCALENDAR
