BEGIN:VCALENDAR
VERSION:2.0
PRODID:-//Squarespace Inc/Squarespace 6//v6//EN
BEGIN:VEVENT
UID:5dbb7570e62ee56117eae8f5@squarespace.com
DTSTAMP:20191101T002423Z
DTSTART:20191101T000000Z
DTEND:20191125T030000Z
SUMMARY:Risk &amp\; Compliance Officer
END:VEVENT
END:VCALENDAR
