BEGIN:VCALENDAR
VERSION:2.0
PRODID:-//Squarespace Inc/Squarespace 6//v6//EN
BEGIN:VEVENT
UID:5dd4a192f129ea05a88d5deb@squarespace.com
DTSTAMP:20191120T021950Z
DTSTART:20191120T023000Z
DTEND:20191201T223000Z
SUMMARY:Cleaner
END:VEVENT
END:VCALENDAR
