BEGIN:VCALENDAR
VERSION:2.0
PRODID:-//Squarespace Inc/Squarespace 6//v6//EN
BEGIN:VEVENT
UID:5dd4a04464576f54286949a4@squarespace.com
DTSTAMP:20191120T024441Z
DTSTART:20191120T023000Z
DTEND:20191201T223000Z
SUMMARY:Teaching &amp\; Learning Assistant - Indigenous Support
END:VEVENT
END:VCALENDAR
