BEGIN:VCALENDAR
VERSION:2.0
PRODID:-//Squarespace Inc/Squarespace 6//v6//EN
BEGIN:VEVENT
UID:5df974c654e9a70ab8590c8a@squarespace.com
DTSTAMP:20191218T004511Z
DTSTART:20191218T010000Z
DTEND:20200110T020000Z
SUMMARY:Boarding Supervisors
END:VEVENT
END:VCALENDAR
