BEGIN:VCALENDAR
VERSION:2.0
PRODID:-//Squarespace Inc/Squarespace 6//v6//EN
BEGIN:VEVENT
UID:5cbe821be5e5f02096624ddc@squarespace.com
DTSTAMP:20190423T043633Z
DTSTART:20190423T180000Z
DTEND:20190507T200000Z
SUMMARY:Japanese Teacher
END:VEVENT
END:VCALENDAR
