BEGIN:VCALENDAR
VERSION:2.0
PRODID:-//Squarespace Inc/Squarespace 6//v6//EN
BEGIN:VEVENT
UID:5cdb5d2f1a76800001590f5c@squarespace.com
DTSTAMP:20190515T003444Z
DTSTART:20190515T003000Z
DTEND:20190603T133000Z
SUMMARY:Teaching &amp\; Learning Assistant - Indigenous Support (Maternity 
 leave contract)
END:VEVENT
END:VCALENDAR
