BEGIN:VCALENDAR
VERSION:2.0
PRODID:-//Squarespace Inc/Squarespace 6//v6//EN
BEGIN:VEVENT
UID:5ccbbcc07817f7dc6b4ff3cc@squarespace.com
DTSTAMP:20190515T004053Z
DTSTART:20190503T040000Z
DTEND:20190603T050000Z
SUMMARY:Early Learning Centre
END:VEVENT
END:VCALENDAR
