BEGIN:VCALENDAR
VERSION:2.0
PRODID:-//Squarespace Inc/Squarespace 6//v6//EN
BEGIN:VEVENT
UID:5cd269eb77ebf00001be438f@squarespace.com
DTSTAMP:20190627T021354Z
DTSTART:20190508T060000Z
DTEND:20190603T200000Z
SUMMARY:Secondary School Teacher - Maternity Leave contract
END:VEVENT
END:VCALENDAR
