BEGIN:VCALENDAR
VERSION:2.0
PRODID:-//Squarespace Inc/Squarespace 6//v6//EN
BEGIN:VEVENT
UID:5d14266cb56fad00019fbf28@squarespace.com
DTSTAMP:20190711T035213Z
DTSTART:20190627T023000Z
DTEND:20190711T183000Z
SUMMARY:Kitchenhand
END:VEVENT
END:VCALENDAR
