BEGIN:VCALENDAR
VERSION:2.0
PRODID:-//Squarespace Inc/Squarespace 6//v6//EN
BEGIN:VEVENT
UID:5d1aaff38d8bcc00010359b2@squarespace.com
DTSTAMP:20190711T035233Z
DTSTART:20190702T013000Z
DTEND:20190711T183000Z
SUMMARY:Chef
END:VEVENT
END:VCALENDAR
