BEGIN:VCALENDAR
VERSION:2.0
PRODID:-//Squarespace Inc/Squarespace 6//v6//EN
BEGIN:VEVENT
UID:5d2bb514d701760001c9d775@squarespace.com
DTSTAMP:20190714T231044Z
DTSTART:20190714T233000Z
DTEND:20190729T003000Z
SUMMARY:Primary School Japanese Teacher 
END:VEVENT
END:VCALENDAR
