BEGIN:VCALENDAR
VERSION:2.0
PRODID:-//Squarespace Inc/Squarespace 6//v6//EN
BEGIN:VEVENT
UID:5d367016c1e840000119d454@squarespace.com
DTSTAMP:20190723T023531Z
DTSTART:20190723T023000Z
DTEND:20190819T033000Z
SUMMARY:Classroom Music Teacher - Junior School
END:VEVENT
END:VCALENDAR
