BEGIN:VCALENDAR
VERSION:2.0
PRODID:-//Squarespace Inc/Squarespace 6//v6//EN
BEGIN:VEVENT
UID:5d36713dd7be6a0001ea8aa1@squarespace.com
DTSTAMP:20190723T024412Z
DTSTART:20190723T030000Z
DTEND:20190805T033000Z
SUMMARY:OSHC Educator
END:VEVENT
END:VCALENDAR
