BEGIN:VCALENDAR
VERSION:2.0
PRODID:-//Squarespace Inc/Squarespace 6//v6//EN
BEGIN:VEVENT
UID:5d5ca637038c2700016ba4cc@squarespace.com
DTSTAMP:20190821T044047Z
DTSTART:20190726T020000Z
DTEND:20190902T030000Z
SUMMARY:Secondary School Teacher specialising in Health &amp\; Physical Edu
 cation
END:VEVENT
END:VCALENDAR
