BEGIN:VCALENDAR
VERSION:2.0
PRODID:-//Squarespace Inc/Squarespace 6//v6//EN
BEGIN:VEVENT
UID:5d3a5acec192d90001dca586@squarespace.com
DTSTAMP:20190821T044106Z
DTSTART:20190726T020000Z
DTEND:20190826T030000Z
SUMMARY:Secondary School Teacher specialising in Drama
END:VEVENT
END:VCALENDAR
