BEGIN:VCALENDAR
VERSION:2.0
PRODID:-//Squarespace Inc/Squarespace 6//v6//EN
BEGIN:VEVENT
UID:5d5c9db815c5270001a7bccc@squarespace.com
DTSTAMP:20191011T041834Z
DTSTART:20190821T013000Z
DTEND:20191015T023000Z
SUMMARY:Secondary School Teacher specialising in Business and Humanities
END:VEVENT
END:VCALENDAR
