BEGIN:VCALENDAR
VERSION:2.0
PRODID:-//Squarespace Inc/Squarespace 6//v6//EN
BEGIN:VEVENT
UID:5d5ca39433dafd0001dbf253@squarespace.com
DTSTAMP:20190916T063532Z
DTSTART:20190821T020000Z
DTEND:20190916T210000Z
SUMMARY:Secondary School Teacher specialising in Mathematics
END:VEVENT
END:VCALENDAR
