BEGIN:VCALENDAR
VERSION:2.0
PRODID:-//Squarespace Inc/Squarespace 6//v6//EN
BEGIN:VEVENT
UID:5d5de89ce4035700010a2243@squarespace.com
DTSTAMP:20190822T010609Z
DTSTART:20190822T010000Z
DTEND:20190903T020000Z
SUMMARY:Kindergarten Childcare Educator 
END:VEVENT
END:VCALENDAR
