BEGIN:VCALENDAR
VERSION:2.0
PRODID:-//Squarespace Inc/Squarespace 6//v6//EN
BEGIN:VEVENT
UID:5d64cbc2b5366a00015936aa@squarespace.com
DTSTAMP:20191011T034439Z
DTSTART:20190827T063000Z
DTEND:20191009T063000Z
SUMMARY:Expressions of Interest sought for Secondary School Teachers
END:VEVENT
END:VCALENDAR
