BEGIN:VCALENDAR
VERSION:2.0
PRODID:-//Squarespace Inc/Squarespace 6//v6//EN
BEGIN:VEVENT
UID:5d79c1cd774e5f0710c6a2cd@squarespace.com
DTSTAMP:20190912T040919Z
DTSTART:20190912T040000Z
DTEND:20190930T030000Z
SUMMARY:Deputy Head of Middle School - Middle School Director of Teaching &
 amp\; Learning
END:VEVENT
END:VCALENDAR
