BEGIN:VCALENDAR
VERSION:2.0
PRODID:-//Squarespace Inc/Squarespace 6//v6//EN
BEGIN:VEVENT
UID:5d6dc044be3d8f0001ad2935@squarespace.com
DTSTAMP:20190911T224856Z
DTSTART:20190903T013000Z
DTEND:20190912T023000Z
SUMMARY:Primary School Teacher
END:VEVENT
END:VCALENDAR
