BEGIN:VCALENDAR
VERSION:2.0
PRODID:-//Squarespace Inc/Squarespace 6//v6//EN
BEGIN:VEVENT
UID:5d71aa6a0aa040000136e2a9@squarespace.com
DTSTAMP:20190910T004007Z
DTSTART:20190906T010000Z
DTEND:20190930T020000Z
SUMMARY:Deputy Head of Junior School / Assistant Head of Junior School
END:VEVENT
END:VCALENDAR
