BEGIN:VCALENDAR
VERSION:2.0
PRODID:-//Squarespace Inc/Squarespace 6//v6//EN
BEGIN:VEVENT
UID:5d71ab21e08d790001faf7cf@squarespace.com
DTSTAMP:20190912T040019Z
DTSTART:20190906T010000Z
DTEND:20190912T020000Z
SUMMARY:Tuckshop/Canteen Assistant
END:VEVENT
END:VCALENDAR
