BEGIN:VCALENDAR
VERSION:2.0
PRODID:-//Squarespace Inc/Squarespace 6//v6//EN
BEGIN:VEVENT
UID:5e1fb4b34301a9378db6fc79@squarespace.com
DTSTAMP:20200123T051813Z
DTSTART:20200116T010000Z
DTEND:20200203T020000Z
SUMMARY:OSHC Assistant
END:VEVENT
END:VCALENDAR
