BEGIN:VCALENDAR
VERSION:2.0
PRODID:-//Squarespace Inc/Squarespace 6//v6//EN
BEGIN:VEVENT
UID:5e292b43d2e9fa1df8202172@squarespace.com
DTSTAMP:20200123T051718Z
DTSTART:20200123T053000Z
DTEND:20200215T063000Z
SUMMARY:Lead Educator
END:VEVENT
END:VCALENDAR
