BEGIN:VCALENDAR
VERSION:2.0
PRODID:-//Squarespace Inc/Squarespace 6//v6//EN
BEGIN:VEVENT
UID:5e573a7edb844f0ca138a5e5@squarespace.com
DTSTAMP:20200227T035427Z
DTSTART:20200227T040000Z
DTEND:20200316T050000Z
SUMMARY:Secondary School Drama Teacher
END:VEVENT
END:VCALENDAR
