BEGIN:VCALENDAR
VERSION:2.0
PRODID:-//Squarespace Inc/Squarespace 6//v6//EN
BEGIN:VEVENT
UID:5e573ca0131a705343562829@squarespace.com
DTSTAMP:20200227T035712Z
DTSTART:20200227T040000Z
DTEND:20200227T050000Z
SUMMARY:Secondary School English/Learning Support Teacher
END:VEVENT
END:VCALENDAR
