BEGIN:VCALENDAR
VERSION:2.0
PRODID:-//Squarespace Inc/Squarespace 6//v6//EN
BEGIN:VEVENT
UID:5c7870f24192026a14e987e2@squarespace.com
DTSTAMP:20190327T010217Z
DTSTART:20190327T130000Z
DTEND:20190403T160000Z
SUMMARY:Secondary School Teacher specialising in Mathematics
END:VEVENT
END:VCALENDAR
