BEGIN:VCALENDAR
VERSION:2.0
PRODID:-//Squarespace Inc/Squarespace 6//v6//EN
BEGIN:VEVENT
UID:5c6215254e17b60cb7582bf5@squarespace.com
DTSTAMP:20190212T021259Z
DTSTART:20190228T010000Z
DTEND:20190228T020000Z
SUMMARY:Rock of Ages
END:VEVENT
END:VCALENDAR
