BEGIN:VCALENDAR
VERSION:2.0
PRODID:-//Squarespace Inc/Squarespace 6//v6//EN
BEGIN:VEVENT
UID:5c7786d015fcc0bb0724cf94@squarespace.com
DTSTAMP:20190228T065947Z
DTSTART:20190514T230000Z
DTEND:20190515T000000Z
SUMMARY:Parents &amp\; Friends Association Meeting
END:VEVENT
END:VCALENDAR
