BEGIN:VCALENDAR
VERSION:2.0
PRODID:-//Squarespace Inc/Squarespace 6//v6//EN
BEGIN:VEVENT
UID:5c7786f6e4966bf9556df93e@squarespace.com
DTSTAMP:20190228T070018Z
DTSTART:20190611T230000Z
DTEND:20190612T000000Z
SUMMARY:Parents &amp\; Friends Association Meeting
END:VEVENT
END:VCALENDAR
