BEGIN:VCALENDAR
VERSION:2.0
PRODID:-//Squarespace Inc/Squarespace 6//v6//EN
BEGIN:VEVENT
UID:5c7786390d92977be68bb52e@squarespace.com
DTSTAMP:20190228T065834Z
DTSTART:20190312T230000Z
DTEND:20190313T000000Z
SUMMARY:Parents &amp\; Friends Association Meeting
END:VEVENT
END:VCALENDAR
