BEGIN:VCALENDAR
VERSION:2.0
PRODID:-//Squarespace Inc/Squarespace 6//v6//EN
BEGIN:VEVENT
UID:5c60c6414e17b65729c9c644@squarespace.com
DTSTAMP:20190211T004959Z
DTSTART:20190402T133000Z
DTEND:20190402T143000Z
SUMMARY:School Tours
GEO:-19.297348;146.780078
LOCATION:154 Ross River Road\, Mundingburra\, QLD\, 4812\, Australia
END:VEVENT
END:VCALENDAR
