BEGIN:VCALENDAR
VERSION:2.0
PRODID:-//Squarespace Inc/Squarespace 6//v6//EN
BEGIN:VEVENT
UID:5c60c5e58165f527b77e01b4@squarespace.com
DTSTAMP:20190320T010100Z
DTSTART:20190305T143000Z
DTEND:20190305T153000Z
SUMMARY:School Tours
GEO:-19.297348;146.780078
LOCATION:154 Ross River Road\, Mundingburra\, QLD\, 4812\, Australia
END:VEVENT
END:VCALENDAR
